BEGIN:VCALENDAR
VERSION:2.0
PRODID:gruene-sls.de
METHOD:PUBLISH
BEGIN:VTIMEZONE
TZID:Europe/Berlin
X-LIC-LOCATION:Europe/Berlin
BEGIN:DAYLIGHT
TZOFFSETFROM:+0100
TZOFFSETTO:+0200
TZNAME:CEST
DTSTART:19700329T020000
RRULE:FREQ=YEARLY;INTERVAL=1;BYDAY=-1SU;BYMONTH=3
END:DAYLIGHT
BEGIN:STANDARD
TZOFFSETFROM:+0200
TZOFFSETTO:+0100
TZNAME:CET
DTSTART:19701025T030000
RRULE:FREQ=YEARLY;INTERVAL=1;BYDAY=-1SU;BYMONTH=10
END:STANDARD
END:VTIMEZONE
BEGIN:VEVENT
UID:ce93096bec385aec113c607b237bda55@gruene-sls.de
URL;VALUE=URI:https://gruene-sls.de/termine/kreismitgliederversammlung/
LOCATION:Gemeindehaus Diefflen, Nalbacherstrasse 100, 66763 Dillingen
SUMMARY:Kreismitgliederversammlung
DESCRIPTION;ALTREP="data:text/html,%0A%3Cp%3EIm%20Gemeindehaus%20Diefflen
 %20%28Nalbacherstrasse%20100%2C%2066763%20Dillingen%29%20%3C%2Fp%3E%0A%0A
 %0A%0A%3Cp%3EEinlass%20ab%2013%3A30%20Uhr%3C%2Fp%3E%0A%0A%0A%0A%3Cp%3E%3C
 %2Fp%3E%0A%0A%0A%0A%3Cdiv%20class%3D%22wp-block-ootb-openstreetmap%22%3E%
 3Cdiv%20class%3D%22ootb-openstreetmap--map%22%20data-provider%3D%22openst
 reetmap%22%20data-maptype%3D%22marker%22%20data-showmarkers%3D%22true%22%
 20data-shapestyle%3D%22%257B%2522fillColor%2522%253A%2522%2523008EFF%2522
 %252C%2522color%2522%253A%2522%2523008EFF%2522%252C%2522weight%2522%253A3
 %257D%22%20data-shapetext%3D%22%22%20data-markers%3D%22%255B%257B%2522lat
 %2522%253A%252249.3715644%2522%252C%2522lng%2522%253A%25226.7628150%2522%
 252C%2522text%2522%253A%2522%253Cp%253EGemeindehaus%252C%2520100%252C%252
 0Nalbacher%2520Stra%25C3%259Fe%252C%2520Diefflen%252C%2520Dillingen%252FS
 aar%252C%2520Landkreis%2520Saarlouis%252C%2520Saarland%252C%252066763%252
 C%2520Deutschland%253C%252Fp%253E%2522%252C%2522textRaw%2522%253A%2522Gem
 eindehaus%252C%2520100%252C%2520Nalbacher%2520Stra%25C3%259Fe%252C%2520Di
 efflen%252C%2520Dillingen%252FSaar%252C%2520Landkreis%2520Saarlouis%252C%
 2520Saarland%252C%252066763%252C%2520Deutschland%2522%252C%2522id%2522%25
 3A1757430138023%257D%255D%22%20data-bounds%3D%22%5B49.371697853567625%2C6
 .7620610601615905%5D%22%20data-zoom%3D%2218%22%20data-minzoom%3D%222%22%2
 0data-maxzoom%3D%2218%22%20data-dragging%3D%22true%22%20data-touchzoom%3D
 %22true%22%20data-doubleclickzoom%3D%22true%22%20data-scrollwheelzoom%3D%
 22true%22%20data-fullscreen%3D%22false%22%20data-marker%3D%22%257B%2522ic
 onUrl%2522%253A%2522https%253A%252F%252Fgruene-sls.de%252Fwp-content%252F
 plugins%252Footb-openstreetmap%252Fassets%252Fvendor%252Fleaflet%252Fimag
 es%252Fmarker-icon.png%2522%252C%2522iconAnchor%2522%253A%255B12%252C41%2
 55D%252C%2522popupAnchor%2522%253A%255B0%252C-41%255D%257D%22%20style%3D%
 22height%3A400px%22%3E%3C%2Fdiv%3E%3C%2Fdiv%3E%0A":Im Gemeindehaus Dieffl
 en (Nalbacherstrasse 100\, 66763 Dillingen)\n\nEinlass ab 13:30 Uhr
CLASS:PUBLIC
DTSTART;TZID=Europe/Berlin:20260517T133000
DTEND;TZID=Europe/Berlin:20260517T160000
DTSTAMP:20260421T142341
END:VEVENT
END:VCALENDAR