BEGIN:VCALENDAR
VERSION:2.0
PRODID:gruene-sls.de
METHOD:PUBLISH
BEGIN:VTIMEZONE
TZID:Europe/Berlin
X-LIC-LOCATION:Europe/Berlin
BEGIN:DAYLIGHT
TZOFFSETFROM:+0100
TZOFFSETTO:+0200
TZNAME:CEST
DTSTART:19700329T020000
RRULE:FREQ=YEARLY;INTERVAL=1;BYDAY=-1SU;BYMONTH=3
END:DAYLIGHT
BEGIN:STANDARD
TZOFFSETFROM:+0200
TZOFFSETTO:+0100
TZNAME:CET
DTSTART:19701025T030000
RRULE:FREQ=YEARLY;INTERVAL=1;BYDAY=-1SU;BYMONTH=10
END:STANDARD
END:VTIMEZONE
BEGIN:VEVENT
UID:0f7619826a2b22e80cb9e48c64b80bb7@gruene-sls.de
URL;VALUE=URI:https://gruene-sls.de/termine/kreisfinanzrat/
LOCATION:Zoom
SUMMARY:Kreisfinanzrat
DESCRIPTION;ALTREP="data:text/html,%0A%3Cp%3EDie%20Sitzung%20findet%20dig
 ital%20statt.%20Die%20betreffenden%20Personen%20haben%20eine%20Einladung%
 20erhalten.%3C%2Fp%3E%0A%0A%0A%0A%3Cp%3E%3C%2Fp%3E%0A":Die Sitzung findet
  digital statt. Die betreffenden Personen haben eine Einladung erhalten.
CLASS:PUBLIC
DTSTART;TZID=Europe/Berlin:20260506T190000
DTEND;TZID=Europe/Berlin:20260506T200000
DTSTAMP:20260424T153136
END:VEVENT
END:VCALENDAR